BEGIN:VCALENDAR
VERSION:2.0
PRODID:-//FIOMS - ECPv5.16.4//NONSGML v1.0//EN
CALSCALE:GREGORIAN
METHOD:PUBLISH
X-ORIGINAL-URL:https://fioms.pt
X-WR-CALDESC:Events for FIOMS
REFRESH-INTERVAL;VALUE=DURATION:PT1H
X-Robots-Tag:noindex
X-PUBLISHED-TTL:PT1H
BEGIN:VTIMEZONE
TZID:Europe/Lisbon
BEGIN:DAYLIGHT
TZOFFSETFROM:+0000
TZOFFSETTO:+0100
TZNAME:WEST
DTSTART:20250330T010000
END:DAYLIGHT
BEGIN:STANDARD
TZOFFSETFROM:+0100
TZOFFSETTO:+0000
TZNAME:WET
DTSTART:20251026T010000
END:STANDARD
END:VTIMEZONE
BEGIN:VEVENT
DTSTART;TZID=Europe/Lisbon:20251101T213000
DTEND;TZID=Europe/Lisbon:20251101T230000
DTSTAMP:20260419T143213
CREATED:20251015T200718Z
LAST-MODIFIED:20251101T213844Z
UID:6493-1762032600-1762038000@fioms.pt
SUMMARY:Requiem de Mozart II
DESCRIPTION:O manuscrito da Sé de Évora \n\n\n\nNas últimas décadas do século XVIII surge na corte portuguesa uma tipologia de escrita única no contexto europeu: repertório sacro com partes solísticas para dois violoncelos e dois fagotes no acompanhamento das vozes. O aparecimento deste repertório foi motivado por diferentes circunstâncias\, mas a mais significativa será o facto de a Capela Patriarcal\, responsável pela produção musical sacra da corte\, ter por tradição a escrita para vozes e baixo contínuo\, estando a utilização da orquestra reservada a ocasiões especiais\, de maior aparato. Quando\, nas últimas décadas doséculo XVIII\, a escrita para baixo contínuo cai em desuso e vigoram os modelos estéticos clássicos\, esta condicionante é contornada através da engenhosa transfiguração dos papéis dos instrumentos do baixo contínuo. \n\n\n\nEsta “orquestra” de instrumentos graves tornou-se uma tradição na corte portuguesa até à primeira metade do século XIX\, tendo sido disseminada mais parte a outros pontos do país. Ainda que sobrevivam obras para diversos momentos do calendário litúrgico\, sabemos\, nomeadamente através de diferentes fontes documentais que existia uma especial ligação desta instrumentação com momentos de especial consternação e gravidade\, como a Semana Santa\, o Dia dos Fiéis Defuntos e ascerimónias fúnebres. Atestam este vínculo vários arranjos sobreviventes em manuscrito de obras como missas de Requiem de N. Jommelli e W. A. Mozart\, ou os Mattutini dei morti de D. Perez. \n\n\n\nNeste programa\, o Ensemble Bonne Corde apresenta o Requiem de Mozart numa versão anónima preservada em manuscrito no Arquivo Musical da Sé de Évora no qual a orquestra é substituída pelo grupo de instrumentos do baixo com violoncelos e fagotes solistas no acompanhamento de 8 vozes. \n\n\n\n \n\n\n\n\nEnsemble Bonne Corde \n\n\n\nDiana Vinagre\, violoncelo & direção artística \n\n\n\nEmily Robinson\, violoncelo \n\n\n\nTomasz Wesolowski & Kamila Marcinkowska-Prasad\, fagotes \n\n\n\nJean-Marc Faucher\, contrabaixo \n\n\n\nFernando Miguel Jalôto\, orgão \n\n\n\n\n\nAna Quintans (solo) & Raquel Mendes\, sopranos \n\n\n\nRita Filipe (solo) & António Lourenço Menezes\, contraltos \n\n\n\nJoão Rodrigues (solo) & Fernando Guimarães\, tenores \n\n\n\nHugo Oliveira (solo) & Luís Rendas Pereira\, baixos \n\n\n\n \n\n\n\nProgramaDescarregar
URL:https://fioms.pt/concerto/et-de-profundo-lacu-ii/
LOCATION:Igreja de São João Novo\, Largo São João Novo 2\, Porto\, Porto\, 4050-066\, Portugal
CATEGORIES:Concertos
ATTACH;FMTTYPE=image/jpeg:https://fioms.pt/wp-content/uploads/2025/10/EBCBaixosPatriarcalCCB-53-250926-copia-scaled.jpg
ORGANIZER;CN="Irmandade%20da%20Lapa":MAILTO:vivyanetavares@irmandadedalapa.pt
END:VEVENT
END:VCALENDAR